BEGIN:VCALENDAR
VERSION:2.0
PRODID:Oceanside, CA Calendar Creator
METHOD:PUBLISH
BEGIN:VEVENT
DTSTAMP:20260209T101132
DTSTART:20260406T000000
DTEND:20260408T235900
SUMMARY:Lifeguard Training Course
DESCRIPTION:This<a href="https://anc.apm.activecommunities.com/oceansiderec/activity/search/detail/16450?onlineSiteId=0&amp;locale=en-US&amp;from_original_cui=true" target="_blank" rel="noopener"> Lifeguard Training Course </a>will run Monday, April 6th - Wednesday, April 8th from 7:00am - 3:00pm. Prerequisite testing is required as well as a 23 hour online lesson prior to April 6th.&nbsp;
X-ALT-DESC;FMTTYPE=text/html:This<a href="https://anc.apm.activecommunities.com/oceansiderec/activity/search/detail/16450?onlineSiteId=0&amp;locale=en-US&amp;from_original_cui=true" target="_blank" rel="noopener"> Lifeguard Training Course </a>will run Monday, April 6th - Wednesday, April 8th from 7:00am - 3:00pm. Prerequisite testing is required as well as a 23 hour online lesson prior to April 6th.&nbsp;
LOCATION:William A. Wagner Aquatic Center\, 3425 Hero Drive Oceanside\, California 92056
CLASS:PUBLIC
END:VEVENT
END:VCALENDAR
